BEGIN:VCALENDAR
VERSION:2.0
PRODID:-//Kokeletso Moiloa Foundation | KM Foundation is an integrated community based non-profit organization, that provide growth platforms that focuses on the social development of children, youth, and the community at large. - ECPv6.15.20//NONSGML v1.0//EN
CALSCALE:GREGORIAN
METHOD:PUBLISH
X-ORIGINAL-URL:https://kmfoundation.org.za
X-WR-CALDESC:Events for Kokeletso Moiloa Foundation | KM Foundation is an integrated community based non-profit organization, that provide growth platforms that focuses on the social development of children, youth, and the community at large.
REFRESH-INTERVAL;VALUE=DURATION:PT1H
X-Robots-Tag:noindex
X-PUBLISHED-TTL:PT1H
BEGIN:VTIMEZONE
TZID:UTC
BEGIN:STANDARD
TZOFFSETFROM:+0000
TZOFFSETTO:+0000
TZNAME:UTC
DTSTART:20220101T000000
END:STANDARD
END:VTIMEZONE
BEGIN:VEVENT
DTSTART;VALUE=DATE:20230710
DTEND;VALUE=DATE:20230719
DTSTAMP:20260419T184842
CREATED:20160912T131913Z
LAST-MODIFIED:20231030T115549Z
UID:436-1688947200-1689724799@kmfoundation.org.za
SUMMARY:Is a Nonprofit Internship the Best Choice for You?
DESCRIPTION:[vc_row full_width=”stretch_row” css=”.vc_custom_1473435558335{background-color: #f6f5f2 !important;}”][vc_column][vc_custom_heading text=”Let’s Make A Difference Today!” font_container=”tag:h2|text_align:center|color:%23000000″ use_theme_fonts=”yes”][vc_row_inner][vc_column_inner width=”1/3″][vc_single_image image=”4696″][vc_column_text] \nBecome A Volunteer\n\nTwo hands are better than one. You are more than welcome to donate time to this worthy cause. \n\n[/vc_column_text][vc_empty_space height=”2.2em”]Join Us[vc_empty_space height=”2.2em”][/vc_column_inner][vc_column_inner width=”1/3″ css=”.vc_custom_1686573729032{background-color: #ffffff !important;}”][vc_single_image image=”4706″][vc_column_text] \nMake A Donation\n\nWe ate Kokeletso Foundation are accountable for every cent we receive. Your help is much appreciated. \n\n[/vc_column_text][vc_empty_space height=”2.2em”]Donate[vc_empty_space height=”2.2em”][/vc_column_inner][vc_column_inner width=”1/3″][vc_single_image image=”4709″][vc_column_text] \nRunning Campaigns\n\nWe have different community programmes running at different times to best serve the people in need. \n[/vc_column_text][vc_empty_space height=”2.2em”]Campaigns[vc_empty_space height=”2.2em”][/vc_column_inner][/vc_row_inner][/vc_column][/vc_row][vc_row full_width=”stretch_row” css=”.vc_custom_1474543056562{background-color: #424242 !important;}”][vc_column]Help us continue our work by donating as little as R50 per month.DonationBecome a Volunteer[/vc_column][/vc_row]
URL:https://kmfoundation.org.za/event/is-a-nonprofit-internship-the-best-choice-for-you/
LOCATION:Charity Center\, 45 Montgomery St. \, New York\, United States
ORGANIZER;CN="Joh Doe":MAILTO:example@mail.com
END:VEVENT
END:VCALENDAR